BEGIN:VCALENDAR
VERSION:2.0
PRODID:-//Tukios.com/
BEGIN:VEVENT
UID:8694b02d-ec81-40a0-a57e-199bcd30df7a@www.wassfuneralhome.com
DTSTAMP:20260421T210608Z
DTSTART:20260424
SUMMARY:Private Family Funeral Service
DESCRIPTION:
URL:https://www.wassfuneralhome.com/obituaries/janice-oconnor
LOCATION: 901 S 3rd St  Beresford SD 57004
GEO:43.072496;-96.7746207
END:VEVENT
END:VCALENDAR