BEGIN:VCALENDAR
VERSION:2.0
PRODID:-//Tukios.com/
BEGIN:VEVENT
UID:5994d017-2ad4-47b7-b689-5bdad4e7e89a@www.wassfuneralhome.com
DTSTAMP:20260421T210027Z
DTSTART:20260424T140000Z
DTEND:20260424T150000Z
SUMMARY:Visitation
DESCRIPTION:
URL:https://www.wassfuneralhome.com/obituaries/janice-oconnor
LOCATION: 901 S 3rd St  Beresford SD 57004
GEO:43.072496;-96.7746207
END:VEVENT
END:VCALENDAR