BEGIN:VCALENDAR
VERSION:2.0
PRODID:-//Tukios.com/
BEGIN:VEVENT
UID:7c22752e-2f0b-423d-9c9c-b899101ea56c@www.wassfuneralhome.com
DTSTAMP:20260425T012849Z
DTSTART:20260428T220000Z
DTEND:20260429T010000Z
SUMMARY:Visitation
DESCRIPTION:
URL:https://www.wassfuneralhome.com/obituaries/garrett-hartsock
LOCATION:Wass Funeral Home 301 N 3rd St  Beresford SD 57004
GEO:43.0829189;-96.7745024
END:VEVENT
END:VCALENDAR