BEGIN:VCALENDAR
VERSION:2.0
PRODID:-//Tukios.com/
BEGIN:VEVENT
UID:1f40eb66-145d-4c35-bbf4-6b2145cf0e8d@www.wassfuneralhome.com
DTSTAMP:20260424T205653Z
DTSTART:20260427T150000Z
DTEND:20260427T160000Z
SUMMARY:Funeral Service
DESCRIPTION:
URL:https://www.wassfuneralhome.com/obituaries/donowan-larson
LOCATION:Alcester Baptist Church 409 Iowa Street  Alcester SD 57001
GEO:43.0245546;-96.630589
END:VEVENT
END:VCALENDAR