BEGIN:VCALENDAR
VERSION:2.0
PRODID:-//Tukios.com/
BEGIN:VEVENT
UID:73ffd603-32fb-4a46-9626-10fa5cde0221@www.wassfuneralhome.com
DTSTAMP:20260424T205658Z
DTSTART:20260426T230000Z
DTEND:20260427T000000Z
SUMMARY:Prayer Service
DESCRIPTION:
URL:https://www.wassfuneralhome.com/obituaries/donowan-larson
LOCATION: 101 W 2nd St  Alcester SD 57001
GEO:43.0218131;-96.6314543
END:VEVENT
END:VCALENDAR