BEGIN:VCALENDAR
VERSION:2.0
PRODID:-//Tukios.com/
BEGIN:VEVENT
UID:a5f4d4d2-6533-4b18-838c-85bc46360433@www.wassfuneralhome.com
DTSTAMP:20260424T205320Z
DTSTART:20260426T220000Z
DTEND:20260427T000000Z
SUMMARY:Visitation
DESCRIPTION:
URL:https://www.wassfuneralhome.com/obituaries/donowan-larson
LOCATION: 101 W 2nd St  Alcester SD 57001
GEO:43.0218131;-96.6314543
END:VEVENT
END:VCALENDAR