BEGIN:VCALENDAR
VERSION:2.0
PRODID:-//Tukios.com/
BEGIN:VEVENT
UID:b1a037aa-7b64-4dfe-980c-0d180f638674@www.wassfuneralhome.com
DTSTAMP:20260422T000416Z
DTSTART:20260425T160000Z
DTEND:20260425T170000Z
SUMMARY:Funeral Service
DESCRIPTION:
URL:https://www.wassfuneralhome.com/obituaries/bryan-blumer
LOCATION: 47106 298th St  Beresford SD 57004
GEO:43.0701821;-96.7854884
END:VEVENT
END:VCALENDAR