BEGIN:VCALENDAR
VERSION:2.0
PRODID:-//Tukios.com/
BEGIN:VEVENT
UID:2e4c9fde-eac7-4795-a01e-2027a028560b@www.wassfuneralhome.com
DTSTAMP:20260422T000616Z
DTSTART:20260424T233000Z
DTEND:20260425T000000Z
SUMMARY:Prayer Service
DESCRIPTION:
URL:https://www.wassfuneralhome.com/obituaries/bryan-blumer
LOCATION: 301 N 3rd St  Beresford SD 57004
GEO:43.0829189;-96.7745024
END:VEVENT
END:VCALENDAR