BEGIN:VCALENDAR
VERSION:2.0
PRODID:-//Tukios.com/
BEGIN:VEVENT
UID:0822ea49-2a5f-4836-981d-b06e9bebc21f@www.wassfuneralhome.com
DTSTAMP:20260422T000803Z
DTSTART:20260424T220000Z
DTEND:20260425T000000Z
SUMMARY:Visitation
DESCRIPTION:
URL:https://www.wassfuneralhome.com/obituaries/bryan-blumer
LOCATION: 301 N 3rd St  Beresford SD 57004
GEO:43.0829189;-96.7745024
END:VEVENT
END:VCALENDAR